BEGIN:VCALENDAR
METHOD:PUBLISH
VERSION:2.0
CALSCALE:GREGORIAN
PRODID:-//NONSGML Sandhills Development\, LLC//NONSGML Sugar Calendar Fe
 eds v3.8.2//EN
X-WR-CALNAME:How to use Zotoro to organise and share your research
X-WR-CALDESC:International Society for First World War Studies
X-WR-TIMEZONE:UTC
BEGIN:VTIMEZONE
TZID:UTC
BEGIN:STANDARD
TZOFFSETFROM:+0000
TZOFFSETTO:+0000
DTSTART:20251017T053000
TZNAME:UTC
END:STANDARD
END:VTIMEZONE
BEGIN:VTIMEZONE
TZID:Europe/London
BEGIN:STANDARD
TZOFFSETFROM:+0100
TZOFFSETTO:+0000
DTSTART:20251026T010000
TZNAME:GMT
END:STANDARD
BEGIN:DAYLIGHT
TZOFFSETFROM:+0000
TZOFFSETTO:+0100
DTSTART:20260329T010000
TZNAME:BST
END:DAYLIGHT
END:VTIMEZONE
BEGIN:VEVENT
SUMMARY:How to use Zotoro to organise and share your research
DESCRIPTION:Our next PGR/ECR event "How to use Zotoro to organise and sh
 are your research" will take place on Friday\, 17 April 2026 at 1:30 pm 
 EST/ 5:30 pm GMT / 6:30 pm CET. Our guest\, historian and Society webmas
 ter\, Dr. Franziska Heimburger will show you how to use Zotoro\, a multi
 -platform application and research tool that helps users collect\, organ
 ise\, annotate\, and share research. There will also be a Q&amp\;A follo
 wing the event. While this event is marketed as a PGR/ECR event\, all So
 ciety members are welcome. Members interested in attending this event sh
 ould register using the link circulated via email.
URL;VALUE=URI:https://firstworldwarstudies.org/events/how-to-use-zotoro-
 to-organise-and-share-your-research/
UID:urn:uuid:9a5cdce9-cb82-4bd9-a31f-e62b5c445cb2
STATUS:CONFIRMED
ORGANIZER:
DTSTAMP:20260421T132158Z
DTSTART;TZID=Europe/London:20260417T173000
DTEND;TZID=Europe/London:20260417T190000
END:VEVENT
END:VCALENDAR